BEGIN:VCALENDAR
VERSION:2.0
PRODID:-//St. Louis Review - ECPv6.15.20//NONSGML v1.0//EN
CALSCALE:GREGORIAN
METHOD:PUBLISH
X-WR-CALNAME:St. Louis Review
X-ORIGINAL-URL:https://www.stlouisreview.com
X-WR-CALDESC:Events for St. Louis Review
REFRESH-INTERVAL;VALUE=DURATION:PT1H
X-Robots-Tag:noindex
X-PUBLISHED-TTL:PT1H
BEGIN:VTIMEZONE
TZID:America/Chicago
BEGIN:DAYLIGHT
TZOFFSETFROM:-0600
TZOFFSETTO:-0500
TZNAME:CDT
DTSTART:20250309T080000
END:DAYLIGHT
BEGIN:STANDARD
TZOFFSETFROM:-0500
TZOFFSETTO:-0600
TZNAME:CST
DTSTART:20251102T070000
END:STANDARD
BEGIN:DAYLIGHT
TZOFFSETFROM:-0600
TZOFFSETTO:-0500
TZNAME:CDT
DTSTART:20260308T080000
END:DAYLIGHT
BEGIN:STANDARD
TZOFFSETFROM:-0500
TZOFFSETTO:-0600
TZNAME:CST
DTSTART:20261101T070000
END:STANDARD
BEGIN:DAYLIGHT
TZOFFSETFROM:-0600
TZOFFSETTO:-0500
TZNAME:CDT
DTSTART:20270314T080000
END:DAYLIGHT
BEGIN:STANDARD
TZOFFSETFROM:-0500
TZOFFSETTO:-0600
TZNAME:CST
DTSTART:20271107T070000
END:STANDARD
END:VTIMEZONE
BEGIN:VEVENT
DTSTART;TZID=America/Chicago:20260501T150000
DTEND;TZID=America/Chicago:20260503T110000
DTSTAMP:20260419T165914
CREATED:20260325T150959Z
LAST-MODIFIED:20260325T150959Z
UID:10000841-1777647600-1777806000@www.stlouisreview.com
SUMMARY:REST Retreat (Restfully Embrace Sacred Time)
DESCRIPTION:Give yourself a time of rest in the quiet beauty of Mercy Center. Disconnect from stress and pressure and reconnect with your deeper self. Mindfully walk the paths or labyrinth\, pray in our sacred chapel space\, enjoy simple creative activities\, read\, journal or simply rest in the stillness. This silent retreat provides you with a private room/private bath as well as comfortable lounges for reflection. To provide the most restful rhythm\, the structure is limited to mealtimes and arrival/departure times. There are no conferences or prayer services\, though participants are welcome to sign up for a spiritual companioning session. All faith traditions are welcome.\nFor additional information and to register visit our website at: www.mercycenterstl.org. Choose from 2 options: Weekend Retreat ($200) or Single Overnight Retreat ($120). Registration ends at noon on April 28.
URL:https://www.stlouisreview.com/event/rest-retreat-restfully-embrace-sacred-time-2/
LOCATION:Mercy Conference and Retreat Center\, 2039 North Geyer Road\, St. Louis\, MO\, 63131\, United States
ATTACH;FMTTYPE=image/jpeg:https://www.stlouisreview.com/wp-content/uploads/2026/03/parish-flyer-MAY-1-3-26-REST-Retreat.jpg
ORGANIZER;CN="Mercy Conference and Retreat Center":MAILTO:info@mercycenterstl.org
END:VEVENT
BEGIN:VEVENT
DTSTART;TZID=America/Chicago:20260426T150000
DTEND;TZID=America/Chicago:20260426T163000
DTSTAMP:20260419T165914
CREATED:20260402T143836Z
LAST-MODIFIED:20260402T143836Z
UID:10000844-1777215600-1777221000@www.stlouisreview.com
SUMMARY:Concert by the No-Name Chorale
DESCRIPTION:Under the direction of Dr. Andy Jensen\, this volunteer community choir has been creating meaningful shared experiences through the art of choral singing\, cultivating an appreciation of choral music in new audiences by presenting fine-art music in an approachable\, welcoming manner. Please join us for this free concert!! The theme: Still Feelin You!
URL:https://www.stlouisreview.com/event/concert-by-the-no-name-chorale/
LOCATION:St Anthony of Padua – St Louis\, 3140 Meramec Street\, St Louis City\, MO\, 63118\, United States
ATTACH;FMTTYPE=image/png:https://www.stlouisreview.com/wp-content/uploads/2026/03/2026.04.26-No-Name-Chorale-Flier-size-1.png
ORGANIZER;CN="St Anthony of Padua - St Louis":MAILTO:StAnthonyofPaduaStL@gmail.com
END:VEVENT
BEGIN:VEVENT
DTSTART;TZID=America/Chicago:20260426T133000
DTEND;TZID=America/Chicago:20260426T153000
DTSTAMP:20260419T165914
CREATED:20260305T203621Z
LAST-MODIFIED:20260305T203621Z
UID:10000834-1777210200-1777217400@www.stlouisreview.com
SUMMARY:Trees: Our Great Teachers and Friends (An Afternoon of Poetry)
DESCRIPTION:If you feel affection for trees and love the great poets\, you will relish celebrating with like-minded others lessons and facets of the tree in rarely seen poems. Read\, talk and deepen your soul work by visiting with our great teachers and friends\, the trees. In poetry by Limon\, Frost\, Whitman\, Oliver\, Sze\, Sarton\, Rilke and others\, touch the tree’s grandeur in two precious hours with Noeli Lytton\, who is an eager facilitator of fine poetry. “Some humans say trees are not sentient beings\, but they do not understand poetry.” JOY HARJO
URL:https://www.stlouisreview.com/event/trees-our-great-teachers-and-friends-an-afternoon-of-poetry/
LOCATION:Mercy Conference and Retreat Center\, 2039 North Geyer Road\, St. Louis\, MO\, 63131\, United States
ATTACH;FMTTYPE=image/jpeg:https://www.stlouisreview.com/wp-content/uploads/2026/03/flyer-Trees-Our-Great-Teachers-and-Friends.jpg
ORGANIZER;CN="Mercy Conference and Retreat Center":MAILTO:info@mercycenterstl.org
END:VEVENT
BEGIN:VEVENT
DTSTART;TZID=America/Chicago:20260424T180000
DTEND;TZID=America/Chicago:20260424T210000
DTSTAMP:20260419T165914
CREATED:20260407T202900Z
LAST-MODIFIED:20260407T202900Z
UID:10000848-1777053600-1777064400@www.stlouisreview.com
SUMMARY:Transformation Night : Our Full Inheritance Embracing Both Charisms & Tradition
DESCRIPTION:Join us at St. Peter Parish in St. Charles\, for an evening of praise music led by Kyle Huelsing followed by a talk given by Father Christopher Trummer of the Diocese of Springfield Illinois. The talk will focus on embracing both tradition and charisms and that there is not an either or but a BOTH AND approach for us as Catholics. Father Christopher Trummer has gone from fallen away Catholic to agnostic to experiencing extraordinary intimacy with Jesus Christ. Father Christopher Trummer is a passionate priest especially around the intellectual and spiritual tradition of the Catholic Church. He loves to discover and share the harmony of this tradition with the movement of the Holy Spirit in our own time. Finally there will be time of individual prayer ministry offered by students of the Encounter School of Ministry Saint Louis campus. The event is FREE. However it is encouraged that you register in advance \nRegister: https://forms.gle/hy9CwTyXtYahubmC7 \nSt. Peter will be the new home of the Encounter School of Ministry Saint Louis Campus beginning with its third class of students is September 3\, 2026. Application are open if you are interested in applying. Apply Here: encounterschool.org/saint-louis/
URL:https://www.stlouisreview.com/event/transformation-night-our-full-inheritance-embracing-both-charisms-tradition/
LOCATION:St. Peter Catholic Church Saint Charles MO\, 221 1st Capitol Drive\, St Charles\, MO\, 63301\, United States
ATTACH;FMTTYPE=image/png:https://www.stlouisreview.com/wp-content/uploads/2026/04/April-24-Transformation-Night-2026.png
ORGANIZER;CN="Encounter School of Ministry Saint Louis Campus":MAILTO:saintlouis@encounterschool.org
END:VEVENT
BEGIN:VEVENT
DTSTART;TZID=America/Chicago:20260422T190000
DTEND;TZID=America/Chicago:20260422T200000
DTSTAMP:20260419T165914
CREATED:20260402T143921Z
LAST-MODIFIED:20260402T143921Z
UID:10000846-1776884400-1776888000@www.stlouisreview.com
SUMMARY:How not to be a Spiritual Vampire
DESCRIPTION:Come learn about how to avoid vampiric tendencies in your spiritual life and instead embrace the deeper life Christ offers with YA vampire author Sr. Allison Regina\, FSP.
URL:https://www.stlouisreview.com/event/how-not-to-be-a-spiritual-vampire/
LOCATION:Pauline Books & Media\, 9804 Watson Rd\, St. Louis\, MO\, United States
ATTACH;FMTTYPE=image/jpeg:https://www.stlouisreview.com/wp-content/uploads/2026/04/Spiritual-vampire.jpg
ORGANIZER;CN="Pauline Books &amp%3B Media":MAILTO:stlouis@paulinemedia.com
END:VEVENT
BEGIN:VEVENT
DTSTART;TZID=America/Chicago:20260422T140000
DTEND;TZID=America/Chicago:20260422T150000
DTSTAMP:20260419T165914
CREATED:20260415T195833Z
LAST-MODIFIED:20260415T195833Z
UID:10000853-1776866400-1776870000@www.stlouisreview.com
SUMMARY:Living Rosary Gatherings
DESCRIPTION:Join us as we continue to pray for our world\, that the Gospel may go forth to the ends of the earth.
URL:https://www.stlouisreview.com/event/living-rosary-gatherings/2026-04-22/
LOCATION:Private: Cardinal Rigali Center\, 20 Archbishop May Dr\, St. Louis\, MO\, 63119-5738\, United States
ATTACH;FMTTYPE=image/jpeg:https://www.stlouisreview.com/wp-content/uploads/2026/04/Living-Rosary-Monthly-Gatherings.jpg
ORGANIZER;CN="Mission Office":MAILTO:Missions@archstl.org
END:VEVENT
END:VCALENDAR